BEGIN:VCALENDAR
VERSION:2.0
PRODID:-//eventon.com NONSGML v1.0//EN
BEGIN:VEVENT
UID:69e6ef3d82de3
DTSTAMP:20260421T133005
DTSTART:20190428T164500Z
DTEND:20190428T174500Z
TZID:UTC
LOCATION:C3 Powerhouse | Sunshine Coast 3 Premier Circuit\,  Warana
SUMMARY:Alpha Course
DESCRIPTION: SESSION TIMES: Sunday&#8217;s // 4:45-5:45pm Alpha is a series of sessions run over 6 weeks exploring the Christian faith and is designed to promote a discussion in exploring and answering the big questions about faith and God. It starts with a short video followed by an open discussion where you[..]\nhttps://www.c3powerhouse.com/events/alpha-course/
URL:https://www.c3powerhouse.com/events/alpha-course/
END:VEVENT
END:VCALENDAR